BEGIN:VCALENDAR
VERSION:2.0
PRODID:-//NAACP Huntington Branch - ECPv6.15.13.1//NONSGML v1.0//EN
CALSCALE:GREGORIAN
METHOD:PUBLISH
X-ORIGINAL-URL:https://naacphuntington.org
X-WR-CALDESC:Events for NAACP Huntington Branch
REFRESH-INTERVAL;VALUE=DURATION:PT1H
X-Robots-Tag:noindex
X-PUBLISHED-TTL:PT1H
BEGIN:VTIMEZONE
TZID:UTC
BEGIN:STANDARD
TZOFFSETFROM:+0000
TZOFFSETTO:+0000
TZNAME:UTC
DTSTART:20180101T000000
END:STANDARD
END:VTIMEZONE
BEGIN:VEVENT
DTSTART;TZID=UTC:20241017T183000
DTEND;TZID=UTC:20241017T210000
DTSTAMP:20260423T095217
CREATED:20260106T032932Z
LAST-MODIFIED:20260106T032932Z
UID:1949-1729189800-1729198800@naacphuntington.org
SUMMARY:Meet the Candidates – Town of Huntington Forum
DESCRIPTION:A nonpartisan forum allowing community members to hear directly from candidates and engage in civic dialogue.
URL:https://naacphuntington.org/event/meet-the-candidates-town-of-huntington-forum/
END:VEVENT
BEGIN:VEVENT
DTSTART;TZID=UTC:20240406T100000
DTEND;TZID=UTC:20240406T150000
DTSTAMP:20260423T095217
CREATED:20260106T032931Z
LAST-MODIFIED:20260106T032931Z
UID:1947-1712397600-1712415600@naacphuntington.org
SUMMARY:Huntington Unity Fun Day
DESCRIPTION:A free community celebration featuring a parade\, fair\, live performances\, vendors\, health screenings\, and family activities.
URL:https://naacphuntington.org/event/huntington-unity-fun-day/
END:VEVENT
BEGIN:VEVENT
DTSTART;TZID=UTC:20240330T130000
DTEND;TZID=UTC:20240330T160000
DTSTAMP:20260423T095217
CREATED:20260106T032932Z
LAST-MODIFIED:20260106T032932Z
UID:1948-1711803600-1711814400@naacphuntington.org
SUMMARY:Women’s History Month Luncheon – Women Serving Huntington
DESCRIPTION:A formal luncheon honoring women leaders and public servants serving the Huntington community.
URL:https://naacphuntington.org/event/womens-history-month-luncheon-women-serving-huntington/
END:VEVENT
BEGIN:VEVENT
DTSTART;TZID=UTC:20231221T190000
DTEND;TZID=UTC:20231221T210000
DTSTAMP:20260423T095217
CREATED:20260106T032931Z
LAST-MODIFIED:20260106T032931Z
UID:1946-1703185200-1703192400@naacphuntington.org
SUMMARY:Holiday Celebration with Sheriff Errol Toulon Jr.
DESCRIPTION:A holiday gathering featuring Suffolk County Sheriff Errol Toulon Jr.\, refreshments\, and community fellowship.
URL:https://naacphuntington.org/event/holiday-celebration-with-sheriff-errol-toulon-jr/
END:VEVENT
BEGIN:VEVENT
DTSTART;TZID=UTC:20210227T183000
DTEND;TZID=UTC:20210227T200000
DTSTAMP:20260423T095217
CREATED:20210227T183000Z
LAST-MODIFIED:20260106T032931Z
UID:1926-1614450600-1614456000@naacphuntington.org
SUMMARY:Black History Activators Documentary Screening
DESCRIPTION:This virtual screening highlights influential figures and defining moments in Black history while encouraging community learning and discussion.
URL:https://naacphuntington.org/event/black-history-activators-documentary-screening/
END:VEVENT
BEGIN:VEVENT
DTSTART;TZID=UTC:20210128T183000
DTEND;TZID=UTC:20210128T200000
DTSTAMP:20260423T095217
CREATED:20210128T183000Z
LAST-MODIFIED:20260106T032931Z
UID:1925-1611858600-1611864000@naacphuntington.org
SUMMARY:Jubilee Program – NAACP Huntington Branch
DESCRIPTION:The NAACP Huntington Branch Jubilee Program honors the legacy of Dr. Martin Luther King Jr. through reflection\, dialogue\, and a featured guest speaker.
URL:https://naacphuntington.org/event/jubilee-program-naacp-huntington-branch/
END:VEVENT
BEGIN:VEVENT
DTSTART;TZID=UTC:20191219T180000
DTEND;TZID=UTC:20191219T203000
DTSTAMP:20260423T095217
CREATED:20260106T032931Z
LAST-MODIFIED:20260106T032931Z
UID:1945-1576778400-1576787400@naacphuntington.org
SUMMARY:NAACP Huntington Branch Holiday Event
DESCRIPTION:This annual holiday event includes a general meeting followed by entertainment and festive celebration for members and guests.
URL:https://naacphuntington.org/event/naacp-huntington-branch-holiday-event/
END:VEVENT
END:VCALENDAR