BEGIN:VCALENDAR
VERSION:2.0
PRODID:-//NAACP Huntington Branch - ECPv6.15.13.1//NONSGML v1.0//EN
CALSCALE:GREGORIAN
METHOD:PUBLISH
X-ORIGINAL-URL:https://naacphuntington.org
X-WR-CALDESC:Events for NAACP Huntington Branch
REFRESH-INTERVAL;VALUE=DURATION:PT1H
X-Robots-Tag:noindex
X-PUBLISHED-TTL:PT1H
BEGIN:VTIMEZONE
TZID:UTC
BEGIN:STANDARD
TZOFFSETFROM:+0000
TZOFFSETTO:+0000
TZNAME:UTC
DTSTART:20250101T000000
END:STANDARD
END:VTIMEZONE
BEGIN:VEVENT
DTSTART;TZID=UTC:20260119T180000
DTEND;TZID=UTC:20260119T210000
DTSTAMP:20260423T162848
CREATED:20260110T001724Z
LAST-MODIFIED:20260110T002135Z
UID:2334-1768845600-1768856400@naacphuntington.org
SUMMARY:MLK Day Celebration
DESCRIPTION:The NAACP Huntington Branch presents an MLK Day Celebration\, co-sponsored by the Town of Huntington. The program will feature the Fellowship Community Choir and a keynote address by Frederick K. Brewington\, Esq.\, Civil Rights Attorney. \nThe event will take place at Bethel A.M.E. Church\, located at 291 Park Avenue\, Huntington\, NY 11743. The Mistress of Ceremonies will be Ms. Jillian Guthman\, Esq.\, Receiver of Taxes. Refreshments will be served in the fellowship hall on the lower level immediately following the program.
URL:https://naacphuntington.org/event/mlk-day-celebration/
LOCATION:Bethel A.M.E. Church\, 291 Park Avenue\, Huntington\, NY\, 11743\, United States
ATTACH;FMTTYPE=image/jpeg:https://naacphuntington.org/wp-content/uploads/2025/04/unseen-histories-bTF3gkd2L28-unsplash.jpg
END:VEVENT
BEGIN:VEVENT
DTSTART;TZID=UTC:20260219T190000
DTEND;TZID=UTC:20260219T204500
DTSTAMP:20260423T162848
CREATED:20260212T164827Z
LAST-MODIFIED:20260218T223523Z
UID:3089-1771527600-1771533900@naacphuntington.org
SUMMARY:An Evening of Black History
DESCRIPTION:See flyer for details.
URL:https://naacphuntington.org/event/an-evening-of-black-history/
LOCATION:South Huntington Public Library\, 145 Pidgeon Hill Road\, Huntington Station\, NY\, 11746
CATEGORIES:Events
END:VEVENT
BEGIN:VEVENT
DTSTART;TZID=UTC:20260319T190000
DTEND;TZID=UTC:20260319T203000
DTSTAMP:20260423T162848
CREATED:20260318T004036Z
LAST-MODIFIED:20260318T004036Z
UID:3114-1773946800-1773952200@naacphuntington.org
SUMMARY:Women's History Month Event
DESCRIPTION:We invite everyone to drop by and share in this impactful event—your participation will truly enrich the discussion
URL:https://naacphuntington.org/event/womens-history-month-event/
LOCATION:South Huntington Public Library\, 145 Pidgeon Hill Road\, Huntington Station\, NY\, 11746
END:VEVENT
BEGIN:VEVENT
DTSTART;TZID=UTC:20260326T180000
DTEND;TZID=UTC:20260326T200000
DTSTAMP:20260423T162848
CREATED:20260324T183610Z
LAST-MODIFIED:20260324T184158Z
UID:3117-1774548000-1774555200@naacphuntington.org
SUMMARY:"Unfinished Revolutions"
DESCRIPTION:The Huntington Historical Society is holding a Walt Whitman Birthplace Collaborative event “Unfinished Revolutions” on Thursday\, March 26th 6:00-8:00 pm at Walt Whitman Birthplace.
URL:https://naacphuntington.org/event/unfinished-revolutions/
LOCATION:Walt Whitman House\, 246 Old Walt Whitman Road\, Huntington Station\, NY\, 11746\, United States
CATEGORIES:Events
END:VEVENT
BEGIN:VEVENT
DTSTART;TZID=UTC:20260416T190000
DTEND;TZID=UTC:20260416T203000
DTSTAMP:20260423T162848
CREATED:20260408T195502Z
LAST-MODIFIED:20260408T195646Z
UID:3125-1776366000-1776371400@naacphuntington.org
SUMMARY:NAACP Huntington Branch Health Committee Presents - Allergy Season
DESCRIPTION:The NAACP Huntington Branch Health Committee is proud to present an informative and timely discussion on allergy season and its impact on our community.
URL:https://naacphuntington.org/event/naacp-huntington-branch-health-committee-presents-allergy-season/
LOCATION:South Huntington Public Library\, 145 Pidgeon Hill Road\, Huntington Station\, NY\, 11746
END:VEVENT
END:VCALENDAR